BEGIN:VCALENDAR
VERSION:2.0
PRODID:-//Barthomley Village Hall - ECPv6.15.11//NONSGML v1.0//EN
CALSCALE:GREGORIAN
METHOD:PUBLISH
X-WR-CALNAME:Barthomley Village Hall
X-ORIGINAL-URL:https://barthomleyvillagehall.com
X-WR-CALDESC:Events for Barthomley Village Hall
REFRESH-INTERVAL;VALUE=DURATION:PT1H
X-Robots-Tag:noindex
X-PUBLISHED-TTL:PT1H
BEGIN:VTIMEZONE
TZID:Europe/London
BEGIN:DAYLIGHT
TZOFFSETFROM:+0000
TZOFFSETTO:+0100
TZNAME:BST
DTSTART:20230326T010000
END:DAYLIGHT
BEGIN:STANDARD
TZOFFSETFROM:+0100
TZOFFSETTO:+0000
TZNAME:GMT
DTSTART:20231029T010000
END:STANDARD
BEGIN:DAYLIGHT
TZOFFSETFROM:+0000
TZOFFSETTO:+0100
TZNAME:BST
DTSTART:20240331T010000
END:DAYLIGHT
BEGIN:STANDARD
TZOFFSETFROM:+0100
TZOFFSETTO:+0000
TZNAME:GMT
DTSTART:20241027T010000
END:STANDARD
BEGIN:DAYLIGHT
TZOFFSETFROM:+0000
TZOFFSETTO:+0100
TZNAME:BST
DTSTART:20250330T010000
END:DAYLIGHT
BEGIN:STANDARD
TZOFFSETFROM:+0100
TZOFFSETTO:+0000
TZNAME:GMT
DTSTART:20251026T010000
END:STANDARD
END:VTIMEZONE
BEGIN:VTIMEZONE
TZID:UTC
BEGIN:STANDARD
TZOFFSETFROM:+0000
TZOFFSETTO:+0000
TZNAME:UTC
DTSTART:20230101T000000
END:STANDARD
END:VTIMEZONE
BEGIN:VEVENT
DTSTART;TZID=Europe/London:20240704T070000
DTEND;TZID=Europe/London:20240704T220000
DTSTAMP:20260426T050837
CREATED:20240611T104129Z
LAST-MODIFIED:20240611T104129Z
UID:1527-1720076400-1720130400@barthomleyvillagehall.com
SUMMARY:General Election - Polling Station
DESCRIPTION:The Village Hall will be the polling station for the General Election on the 4th of July. \nPlease remember your photo ID or you will not be able to vote.
URL:https://barthomleyvillagehall.com/event/general-election-polling-station/
LOCATION:Barthomley Village Hall\, CW2 5PE
CATEGORIES:One-off
END:VEVENT
BEGIN:VEVENT
DTSTART;TZID=Europe/London:20240709T193000
DTEND;TZID=Europe/London:20240709T213000
DTSTAMP:20260426T050837
CREATED:20240611T104338Z
LAST-MODIFIED:20240611T104338Z
UID:1531-1720553400-1720560600@barthomleyvillagehall.com
SUMMARY:Parish Council meeting
DESCRIPTION:Tuesday 9th July 7:30pm \nMembers of the public are welcome to attend. \nAn agenda will be published on the Parish Council website in advance of the meeting.
URL:https://barthomleyvillagehall.com/event/parish-council-meeting-090724/
CATEGORIES:One-off
END:VEVENT
BEGIN:VEVENT
DTSTART;TZID=UTC:20240716T140000
DTEND;TZID=UTC:20240716T160000
DTSTAMP:20260426T050837
CREATED:20240611T104503Z
LAST-MODIFIED:20240611T104503Z
UID:1533-1721138400-1721145600@barthomleyvillagehall.com
SUMMARY:Teaset
DESCRIPTION:16th July\, 2-4pm \nColin Baxter – “Life of a Vet” \nAdmission £3.00 \n 
URL:https://barthomleyvillagehall.com/event/teaset-160724/
LOCATION:Barthomley Village Hall\, CW2 5PE
CATEGORIES:One-off
END:VEVENT
BEGIN:VEVENT
DTSTART;TZID=UTC:20240717T193000
DTEND;TZID=UTC:20240717T213000
DTSTAMP:20260426T050837
CREATED:20240611T104614Z
LAST-MODIFIED:20240611T104632Z
UID:1535-1721244600-1721251800@barthomleyvillagehall.com
SUMMARY:PCC meeting
DESCRIPTION:Wednesday 17th July 7.30 pm
URL:https://barthomleyvillagehall.com/event/pcc-meeting-170724/
LOCATION:Barthomley Village Hall\, CW2 5PE
CATEGORIES:One-off
END:VEVENT
END:VCALENDAR