BEGIN:VCALENDAR
VERSION:2.0
PRODID:-//Barthomley Village Hall - ECPv6.15.11//NONSGML v1.0//EN
CALSCALE:GREGORIAN
METHOD:PUBLISH
X-WR-CALNAME:Barthomley Village Hall
X-ORIGINAL-URL:https://barthomleyvillagehall.com
X-WR-CALDESC:Events for Barthomley Village Hall
REFRESH-INTERVAL;VALUE=DURATION:PT1H
X-Robots-Tag:noindex
X-PUBLISHED-TTL:PT1H
BEGIN:VTIMEZONE
TZID:UTC
BEGIN:STANDARD
TZOFFSETFROM:+0000
TZOFFSETTO:+0000
TZNAME:UTC
DTSTART:20230101T000000
END:STANDARD
END:VTIMEZONE
BEGIN:VEVENT
DTSTART;TZID=UTC:20240918T193000
DTEND;TZID=UTC:20240918T213000
DTSTAMP:20260426T035402
CREATED:20240815T100058Z
LAST-MODIFIED:20240815T100058Z
UID:1566-1726687800-1726695000@barthomleyvillagehall.com
SUMMARY:PCC meeting
DESCRIPTION:Wednesday 18th September 7.30 pm
URL:https://barthomleyvillagehall.com/event/pcc-meeting-180924/
LOCATION:Barthomley Village Hall\, CW2 5PE
CATEGORIES:One-off
END:VEVENT
END:VCALENDAR