BEGIN:VCALENDAR
VERSION:2.0
PRODID:-//Barthomley Village Hall - ECPv6.15.11//NONSGML v1.0//EN
CALSCALE:GREGORIAN
METHOD:PUBLISH
X-WR-CALNAME:Barthomley Village Hall
X-ORIGINAL-URL:https://barthomleyvillagehall.com
X-WR-CALDESC:Events for Barthomley Village Hall
REFRESH-INTERVAL;VALUE=DURATION:PT1H
X-Robots-Tag:noindex
X-PUBLISHED-TTL:PT1H
BEGIN:VTIMEZONE
TZID:UTC
BEGIN:STANDARD
TZOFFSETFROM:+0000
TZOFFSETTO:+0000
TZNAME:UTC
DTSTART:20230101T000000
END:STANDARD
END:VTIMEZONE
BEGIN:VEVENT
DTSTART;TZID=UTC:20241120T193000
DTEND;TZID=UTC:20241120T213000
DTSTAMP:20260423T194222
CREATED:20241021T121452Z
LAST-MODIFIED:20241021T121452Z
UID:1623-1732131000-1732138200@barthomleyvillagehall.com
SUMMARY:PCC meeting
DESCRIPTION:Wednesday 20th November 7.30 pm
URL:https://barthomleyvillagehall.com/event/pcc-meeting-201124/
LOCATION:Barthomley Village Hall\, CW2 5PE
CATEGORIES:One-off
END:VEVENT
END:VCALENDAR