BEGIN:VCALENDAR
VERSION:2.0
PRODID:-//Barthomley Village Hall - ECPv6.15.11//NONSGML v1.0//EN
CALSCALE:GREGORIAN
METHOD:PUBLISH
X-ORIGINAL-URL:https://barthomleyvillagehall.com
X-WR-CALDESC:Events for Barthomley Village Hall
REFRESH-INTERVAL;VALUE=DURATION:PT1H
X-Robots-Tag:noindex
X-PUBLISHED-TTL:PT1H
BEGIN:VTIMEZONE
TZID:UTC
BEGIN:STANDARD
TZOFFSETFROM:+0000
TZOFFSETTO:+0000
TZNAME:UTC
DTSTART:20240101T000000
END:STANDARD
END:VTIMEZONE
BEGIN:VEVENT
DTSTART;TZID=UTC:20250319T193000
DTEND;TZID=UTC:20250319T213000
DTSTAMP:20260423T133724
CREATED:20250219T145733Z
LAST-MODIFIED:20250219T145733Z
UID:1716-1742412600-1742419800@barthomleyvillagehall.com
SUMMARY:PCC meeting
DESCRIPTION:Wednesday 19th March 7.30 pm
URL:https://barthomleyvillagehall.com/event/pcc-meeting-190325/
LOCATION:Barthomley Village Hall\, CW2 5PE
CATEGORIES:One-off
END:VEVENT
END:VCALENDAR