BEGIN:VCALENDAR
VERSION:2.0
PRODID:-//Barthomley Village Hall - ECPv6.15.11//NONSGML v1.0//EN
CALSCALE:GREGORIAN
METHOD:PUBLISH
X-WR-CALNAME:Barthomley Village Hall
X-ORIGINAL-URL:https://barthomleyvillagehall.com
X-WR-CALDESC:Events for Barthomley Village Hall
REFRESH-INTERVAL;VALUE=DURATION:PT1H
X-Robots-Tag:noindex
X-PUBLISHED-TTL:PT1H
BEGIN:VTIMEZONE
TZID:Europe/London
BEGIN:DAYLIGHT
TZOFFSETFROM:+0000
TZOFFSETTO:+0100
TZNAME:BST
DTSTART:20240331T010000
END:DAYLIGHT
BEGIN:STANDARD
TZOFFSETFROM:+0100
TZOFFSETTO:+0000
TZNAME:GMT
DTSTART:20241027T010000
END:STANDARD
BEGIN:DAYLIGHT
TZOFFSETFROM:+0000
TZOFFSETTO:+0100
TZNAME:BST
DTSTART:20250330T010000
END:DAYLIGHT
BEGIN:STANDARD
TZOFFSETFROM:+0100
TZOFFSETTO:+0000
TZNAME:GMT
DTSTART:20251026T010000
END:STANDARD
BEGIN:DAYLIGHT
TZOFFSETFROM:+0000
TZOFFSETTO:+0100
TZNAME:BST
DTSTART:20260329T010000
END:DAYLIGHT
BEGIN:STANDARD
TZOFFSETFROM:+0100
TZOFFSETTO:+0000
TZNAME:GMT
DTSTART:20261025T010000
END:STANDARD
BEGIN:DAYLIGHT
TZOFFSETFROM:+0000
TZOFFSETTO:+0100
TZNAME:BST
DTSTART:20270328T010000
END:DAYLIGHT
BEGIN:STANDARD
TZOFFSETFROM:+0100
TZOFFSETTO:+0000
TZNAME:GMT
DTSTART:20271031T010000
END:STANDARD
END:VTIMEZONE
BEGIN:VTIMEZONE
TZID:UTC
BEGIN:STANDARD
TZOFFSETFROM:+0000
TZOFFSETTO:+0000
TZNAME:UTC
DTSTART:20240101T000000
END:STANDARD
END:VTIMEZONE
BEGIN:VEVENT
DTSTART;TZID=Europe/London:20260328T103000
DTEND;TZID=Europe/London:20260328T120000
DTSTAMP:20260420T110933
CREATED:20260225T090831Z
LAST-MODIFIED:20260225T090831Z
UID:1943-1774693800-1774699200@barthomleyvillagehall.com
SUMMARY:PCC Easter Egg Hunt
DESCRIPTION:Saturday 28th March 10.30am – 12.00 noon
URL:https://barthomleyvillagehall.com/event/pcc-easter-egg-hunt/
LOCATION:Barthomley Village Hall\, CW2 5PE
CATEGORIES:One-off
END:VEVENT
BEGIN:VEVENT
DTSTART;TZID=Europe/London:20260318T080000
DTEND;TZID=Europe/London:20260318T170000
DTSTAMP:20260420T110933
CREATED:20260225T090630Z
LAST-MODIFIED:20260225T090630Z
UID:1941-1773820800-1773853200@barthomleyvillagehall.com
SUMMARY:PCC Meeting
DESCRIPTION:Wednesday 18th March 7.15pm
URL:https://barthomleyvillagehall.com/event/pcc-meeting-180326/
CATEGORIES:One-off
END:VEVENT
BEGIN:VEVENT
DTSTART;TZID=Europe/London:20260317T140000
DTEND;TZID=Europe/London:20260317T160000
DTSTAMP:20260420T110933
CREATED:20260225T090421Z
LAST-MODIFIED:20260225T090450Z
UID:1938-1773756000-1773763200@barthomleyvillagehall.com
SUMMARY:Teaset
DESCRIPTION:2pm – 4pm \nTuesday 17th March \nSpeaker TBA
URL:https://barthomleyvillagehall.com/event/teaset-170326/
LOCATION:Barthomley Village Hall\, CW2 5PE
CATEGORIES:One-off
END:VEVENT
BEGIN:VEVENT
DTSTART;TZID=Europe/London:20260310T193000
DTEND;TZID=Europe/London:20260310T213000
DTSTAMP:20260420T110933
CREATED:20260225T090307Z
LAST-MODIFIED:20260225T090307Z
UID:1936-1773171000-1773178200@barthomleyvillagehall.com
SUMMARY:Parish Council meeting
DESCRIPTION:Tuesday 10th March 7:30pm \nMembers of the public are welcome to attend. \nAn agenda will be published on the Parish Council website in advance of the meeting.
URL:https://barthomleyvillagehall.com/event/parish-council-meeting-100326/
LOCATION:Barthomley Village Hall\, CW2 5PE
CATEGORIES:One-off
END:VEVENT
BEGIN:VEVENT
DTSTART;TZID=Europe/London:20260302T191500
DTEND;TZID=Europe/London:20260302T213000
DTSTAMP:20260420T110933
CREATED:20260225T085715Z
LAST-MODIFIED:20260225T085715Z
UID:1926-1772478900-1772487000@barthomleyvillagehall.com
SUMMARY:Village Fête meeting
DESCRIPTION:7.15pm \n 
URL:https://barthomleyvillagehall.com/event/village-fete-meeting-3/
LOCATION:Barthomley Village Hall\, CW2 5PE
CATEGORIES:One-off
END:VEVENT
BEGIN:VEVENT
DTSTART;TZID=Europe/London:20260217T140000
DTEND;TZID=Europe/London:20260217T160000
DTSTAMP:20260420T110933
CREATED:20260114T114752Z
LAST-MODIFIED:20260114T114752Z
UID:1919-1771336800-1771344000@barthomleyvillagehall.com
SUMMARY:Teaset
DESCRIPTION:2pm – 4pm \nTuesday 17th February \nScam awareness
URL:https://barthomleyvillagehall.com/event/teaset-4/
LOCATION:Barthomley Village Hall\, CW2 5PE
CATEGORIES:One-off
END:VEVENT
BEGIN:VEVENT
DTSTART;TZID=Europe/London:20260120T140000
DTEND;TZID=Europe/London:20260120T160000
DTSTAMP:20260420T110933
CREATED:20251114T092159Z
LAST-MODIFIED:20251114T092159Z
UID:1907-1768917600-1768924800@barthomleyvillagehall.com
SUMMARY:Teaset
DESCRIPTION:2pm – 4pm \nTuesday 20th January \nLife of a Victorian factory girl in Crewe
URL:https://barthomleyvillagehall.com/event/teaset-200126/
LOCATION:Barthomley Village Hall\, CW2 5PE
CATEGORIES:One-off
END:VEVENT
BEGIN:VEVENT
DTSTART;TZID=Europe/London:20260119T191500
DTEND;TZID=Europe/London:20260119T213000
DTSTAMP:20260420T110933
CREATED:20251114T092025Z
LAST-MODIFIED:20251114T092025Z
UID:1905-1768850100-1768858200@barthomleyvillagehall.com
SUMMARY:Village Day Committee AGM
DESCRIPTION:7.15pm Monday 19th January
URL:https://barthomleyvillagehall.com/event/village-day-committee-agm-190126/
LOCATION:Barthomley Village Hall\, CW2 5PE
CATEGORIES:One-off
END:VEVENT
BEGIN:VEVENT
DTSTART;TZID=Europe/London:20260113T193000
DTEND;TZID=Europe/London:20260113T213000
DTSTAMP:20260420T110933
CREATED:20251114T091825Z
LAST-MODIFIED:20251114T091825Z
UID:1903-1768332600-1768339800@barthomleyvillagehall.com
SUMMARY:Parish Council meeting
DESCRIPTION:Tuesday 13th January 7:30pm \nMembers of the public are welcome to attend. \nAn agenda will be published on the Parish Council website in advance of the meeting.
URL:https://barthomleyvillagehall.com/event/parish-council-meeting-130126/
LOCATION:Barthomley Village Hall\, CW2 5PE
CATEGORIES:One-off
END:VEVENT
BEGIN:VEVENT
DTSTART;TZID=Europe/London:20260105T200000
DTEND;TZID=Europe/London:20260105T213000
DTSTAMP:20260420T110933
CREATED:20251114T091703Z
LAST-MODIFIED:20251114T091703Z
UID:1901-1767643200-1767648600@barthomleyvillagehall.com
SUMMARY:Village Hall Committee Meeting
DESCRIPTION:8.00pm 5th January
URL:https://barthomleyvillagehall.com/event/village-hall-committee-meeting-050126/
CATEGORIES:One-off
END:VEVENT
BEGIN:VEVENT
DTSTART;TZID=Europe/London:20251209T140000
DTEND;TZID=Europe/London:20251209T160000
DTSTAMP:20260420T110933
CREATED:20251114T091535Z
LAST-MODIFIED:20251206T090343Z
UID:1897-1765288800-1765296000@barthomleyvillagehall.com
SUMMARY:Teaset
DESCRIPTION:Tuesday 9th December ( a week earlier than usual) Barthomley Village Hall 2pm – 4pm \nAll welcome £3 per person including afternoon tea. \nCHRISTMAS THEME. \nPLEASE BRING A SECRET SANTA GIFT maximum value £3.
URL:https://barthomleyvillagehall.com/event/teaset-091225/
LOCATION:Barthomley Village Hall\, CW2 5PE
CATEGORIES:One-off
END:VEVENT
BEGIN:VEVENT
DTSTART;VALUE=DATE:20251129
DTEND;VALUE=DATE:20251130
DTSTAMP:20260420T110933
CREATED:20251017T152503Z
LAST-MODIFIED:20251017T152503Z
UID:1876-1764374400-1764460799@barthomleyvillagehall.com
SUMMARY:Christmas Fair
DESCRIPTION:2025 Barthomley Christmas Fair
URL:https://barthomleyvillagehall.com/event/christmas-fair-3/
LOCATION:Barthomley Village Hall\, CW2 5PE
CATEGORIES:One-off
END:VEVENT
BEGIN:VEVENT
DTSTART;TZID=UTC:20251119T193000
DTEND;TZID=UTC:20251119T213000
DTSTAMP:20260420T110933
CREATED:20251017T152405Z
LAST-MODIFIED:20251017T152405Z
UID:1874-1763580600-1763587800@barthomleyvillagehall.com
SUMMARY:PCC meeting
DESCRIPTION:Wednesday 19th November 7.30 pm
URL:https://barthomleyvillagehall.com/event/pcc-meeting-191125/
LOCATION:Barthomley Village Hall\, CW2 5PE
CATEGORIES:One-off
END:VEVENT
BEGIN:VEVENT
DTSTART;TZID=Europe/London:20251118T140000
DTEND;TZID=Europe/London:20251118T160000
DTSTAMP:20260420T110933
CREATED:20251017T152003Z
LAST-MODIFIED:20251017T152003Z
UID:1867-1763474400-1763481600@barthomleyvillagehall.com
SUMMARY:Teaset
DESCRIPTION:2pm – 4pm \nTuesday 18th November \nDetails in newsletter
URL:https://barthomleyvillagehall.com/event/teaset-181125/
LOCATION:Barthomley Village Hall\, CW2 5PE
CATEGORIES:One-off
END:VEVENT
BEGIN:VEVENT
DTSTART;TZID=Europe/London:20251111T193000
DTEND;TZID=Europe/London:20251111T213000
DTSTAMP:20260420T110933
CREATED:20251017T152059Z
LAST-MODIFIED:20251017T152059Z
UID:1869-1762889400-1762896600@barthomleyvillagehall.com
SUMMARY:Parish Council meeting
DESCRIPTION:Tuesday 11th November 7:30pm \nMembers of the public are welcome to attend. \nAn agenda will be published on the Parish Council website in advance of the meeting.
URL:https://barthomleyvillagehall.com/event/parish-council-meeting-111125/
CATEGORIES:One-off
END:VEVENT
BEGIN:VEVENT
DTSTART;TZID=Europe/London:20251104T200000
DTEND;TZID=Europe/London:20251104T213000
DTSTAMP:20260420T110933
CREATED:20251017T153145Z
LAST-MODIFIED:20251017T153145Z
UID:1878-1762286400-1762291800@barthomleyvillagehall.com
SUMMARY:Village Hall Committee Meeting
DESCRIPTION:8.00pm 4th November
URL:https://barthomleyvillagehall.com/event/village-hall-committee-meeting-3/
CATEGORIES:One-off
END:VEVENT
BEGIN:VEVENT
DTSTART;TZID=Europe/London:20251021T140000
DTEND;TZID=Europe/London:20251021T160000
DTSTAMP:20260420T110933
CREATED:20250920T180312Z
LAST-MODIFIED:20250920T180312Z
UID:1857-1761055200-1761062400@barthomleyvillagehall.com
SUMMARY:Teaset
DESCRIPTION:2pm Tuesday 21st October \nDetails in newsletter
URL:https://barthomleyvillagehall.com/event/teaset-3/
LOCATION:Barthomley Village Hall\, CW2 5PE
CATEGORIES:One-off
END:VEVENT
BEGIN:VEVENT
DTSTART;TZID=Europe/London:20251013T191500
DTEND;TZID=Europe/London:20251013T213000
DTSTAMP:20260420T110933
CREATED:20250920T180155Z
LAST-MODIFIED:20250920T180155Z
UID:1855-1760382900-1760391000@barthomleyvillagehall.com
SUMMARY:Village Fete Meeting
DESCRIPTION:
URL:https://barthomleyvillagehall.com/event/village-fete-meeting-2/
LOCATION:Barthomley Village Hall\, CW2 5PE
CATEGORIES:One-off
END:VEVENT
BEGIN:VEVENT
DTSTART;TZID=Europe/London:20250927T190000
DTEND;TZID=Europe/London:20250927T220000
DTSTAMP:20260420T110933
CREATED:20250814T123842Z
LAST-MODIFIED:20250814T123843Z
UID:1812-1758999600-1759010400@barthomleyvillagehall.com
SUMMARY:Harvest Supper
DESCRIPTION:27th September \nTickets £15 (£7.50 for children) \nDetails TBA
URL:https://barthomleyvillagehall.com/event/harvest-supper-3/
LOCATION:Barthomley Village Hall\, CW2 5PE
CATEGORIES:One-off
END:VEVENT
BEGIN:VEVENT
DTSTART;TZID=UTC:20250917T193000
DTEND;TZID=UTC:20250917T213000
DTSTAMP:20260420T110933
CREATED:20250828T195414Z
LAST-MODIFIED:20250828T195414Z
UID:1834-1758137400-1758144600@barthomleyvillagehall.com
SUMMARY:PCC meeting
DESCRIPTION:Wednesday 17th September 7.30 pm
URL:https://barthomleyvillagehall.com/event/pcc-meeting-170925/
LOCATION:Barthomley Village Hall\, CW2 5PE
CATEGORIES:One-off
END:VEVENT
BEGIN:VEVENT
DTSTART;TZID=Europe/London:20250916T140000
DTEND;TZID=Europe/London:20250916T160000
DTSTAMP:20260420T110933
CREATED:20250828T195230Z
LAST-MODIFIED:20250828T195230Z
UID:1832-1758031200-1758038400@barthomleyvillagehall.com
SUMMARY:Teaset
DESCRIPTION:2pm Tuesday 16th September
URL:https://barthomleyvillagehall.com/event/teaset-160925/
LOCATION:Barthomley Village Hall\, CW2 5PE
CATEGORIES:One-off
END:VEVENT
BEGIN:VEVENT
DTSTART;TZID=Europe/London:20250915T191500
DTEND;TZID=Europe/London:20250915T213000
DTSTAMP:20260420T110933
CREATED:20250828T195038Z
LAST-MODIFIED:20250828T195038Z
UID:1830-1757963700-1757971800@barthomleyvillagehall.com
SUMMARY:Barthomley Fete Meeting
DESCRIPTION:Monday 15th September 7.15pm
URL:https://barthomleyvillagehall.com/event/barthomley-fete-meeting-2/
LOCATION:Barthomley Village Hall\, CW2 5PE
CATEGORIES:One-off
END:VEVENT
BEGIN:VEVENT
DTSTART;TZID=Europe/London:20250909T193000
DTEND;TZID=Europe/London:20250909T213000
DTSTAMP:20260420T110933
CREATED:20250828T194907Z
LAST-MODIFIED:20250828T194907Z
UID:1828-1757446200-1757453400@barthomleyvillagehall.com
SUMMARY:Parish Council meeting
DESCRIPTION:Tuesday 9th September 7:30pm \nMembers of the public are welcome to attend. \nAn agenda will be published on the Parish Council website in advance of the meeting.
URL:https://barthomleyvillagehall.com/event/parish-council-meeting-090925/
CATEGORIES:One-off
END:VEVENT
BEGIN:VEVENT
DTSTART;TZID=Europe/London:20250903T200000
DTEND;TZID=Europe/London:20250903T213000
DTSTAMP:20260420T110933
CREATED:20250828T194710Z
LAST-MODIFIED:20250828T194710Z
UID:1825-1756929600-1756935000@barthomleyvillagehall.com
SUMMARY:Village Hall Committee Meeting
DESCRIPTION:8.00pm 3rd September
URL:https://barthomleyvillagehall.com/event/village-hall-committee-meeting-2/
CATEGORIES:One-off
END:VEVENT
BEGIN:VEVENT
DTSTART;TZID=Europe/London:20250727T143000
DTEND;TZID=Europe/London:20250727T163000
DTSTAMP:20260420T110933
CREATED:20250624T103613Z
LAST-MODIFIED:20250705T113132Z
UID:1801-1753626600-1753633800@barthomleyvillagehall.com
SUMMARY:Strawberry Tea
DESCRIPTION:Sunday 27th July \n2.30 – 4.30pm \nIn the Rectory Garden (or in the Village Hall in the event of rain) \nStrawberries & Cream\, Scones and Tea (or bring your own drinks and glasses) \nIf you can bring a folding chair for yourself\, that would be grand! \nPlease try to come – there’s plenty of room for everyone \nTickets £5.00 in support of Church funds. \nPlease contact either Rev. Peter or Chris Bailey to reserve places.
URL:https://barthomleyvillagehall.com/event/strawberry-tea/
LOCATION:Rectory Garden\, United Kingdom
CATEGORIES:One-off
END:VEVENT
BEGIN:VEVENT
DTSTART;TZID=Europe/London:20250721T191500
DTEND;TZID=Europe/London:20250721T210000
DTSTAMP:20260420T110933
CREATED:20250624T103536Z
LAST-MODIFIED:20250624T103536Z
UID:1799-1753125300-1753131600@barthomleyvillagehall.com
SUMMARY:Village Fete Meeting
DESCRIPTION:Village Fete Meeting \nMonday 21st July 7.15pm
URL:https://barthomleyvillagehall.com/event/village-fete-meeting/
CATEGORIES:One-off
END:VEVENT
BEGIN:VEVENT
DTSTART;TZID=UTC:20250716T193000
DTEND;TZID=UTC:20250716T213000
DTSTAMP:20260420T110933
CREATED:20250624T102727Z
LAST-MODIFIED:20250624T102727Z
UID:1784-1752694200-1752701400@barthomleyvillagehall.com
SUMMARY:PCC meeting
DESCRIPTION:Wednesday 16th July 7.30 pm
URL:https://barthomleyvillagehall.com/event/pcc-meeting-2/
LOCATION:Barthomley Village Hall\, CW2 5PE
CATEGORIES:One-off
END:VEVENT
BEGIN:VEVENT
DTSTART;TZID=Europe/London:20250715T140000
DTEND;TZID=Europe/London:20250715T160000
DTSTAMP:20260420T110933
CREATED:20250624T103041Z
LAST-MODIFIED:20250715T160424Z
UID:1791-1752588000-1752595200@barthomleyvillagehall.com
SUMMARY:Teaset
DESCRIPTION:2pm Tuesday 15th July \nVisit to Norley Bank Farm Garden\, WA6 8PJ \n£6 admission. \nTeas\, coffees\, cakes and plants also available to purchase. \nFull details in June Parish Newsletter
URL:https://barthomleyvillagehall.com/event/teaset-150725/
LOCATION:Norley Bank Farm Garden\, WA6 8PJ
CATEGORIES:One-off
END:VEVENT
BEGIN:VEVENT
DTSTART;TZID=Europe/London:20250709T200000
DTEND;TZID=Europe/London:20250709T213000
DTSTAMP:20260420T110933
CREATED:20250624T102904Z
LAST-MODIFIED:20250624T102920Z
UID:1788-1752091200-1752096600@barthomleyvillagehall.com
SUMMARY:Village Hall Committee Meeting
DESCRIPTION:9th July\, 8pm
URL:https://barthomleyvillagehall.com/event/village-hall-committee-meeting-090725/
CATEGORIES:One-off
END:VEVENT
BEGIN:VEVENT
DTSTART;TZID=Europe/London:20250708T193000
DTEND;TZID=Europe/London:20250708T213000
DTSTAMP:20260420T110933
CREATED:20250624T102809Z
LAST-MODIFIED:20250624T102809Z
UID:1786-1752003000-1752010200@barthomleyvillagehall.com
SUMMARY:Parish Council meeting
DESCRIPTION:Tuesday 8th July 7:30pm \nMembers of the public are welcome to attend. \nAn agenda will be published on the Parish Council website in advance of the meeting.
URL:https://barthomleyvillagehall.com/event/parish-council-meeting/
CATEGORIES:One-off
END:VEVENT
END:VCALENDAR