BEGIN:VCALENDAR
VERSION:2.0
PRODID:-//Barthomley Village Hall - ECPv6.15.11//NONSGML v1.0//EN
CALSCALE:GREGORIAN
METHOD:PUBLISH
X-WR-CALNAME:Barthomley Village Hall
X-ORIGINAL-URL:https://barthomleyvillagehall.com
X-WR-CALDESC:Events for Barthomley Village Hall
REFRESH-INTERVAL;VALUE=DURATION:PT1H
X-Robots-Tag:noindex
X-PUBLISHED-TTL:PT1H
BEGIN:VTIMEZONE
TZID:Europe/London
BEGIN:DAYLIGHT
TZOFFSETFROM:+0000
TZOFFSETTO:+0100
TZNAME:BST
DTSTART:20250330T010000
END:DAYLIGHT
BEGIN:STANDARD
TZOFFSETFROM:+0100
TZOFFSETTO:+0000
TZNAME:GMT
DTSTART:20251026T010000
END:STANDARD
BEGIN:DAYLIGHT
TZOFFSETFROM:+0000
TZOFFSETTO:+0100
TZNAME:BST
DTSTART:20260329T010000
END:DAYLIGHT
BEGIN:STANDARD
TZOFFSETFROM:+0100
TZOFFSETTO:+0000
TZNAME:GMT
DTSTART:20261025T010000
END:STANDARD
BEGIN:DAYLIGHT
TZOFFSETFROM:+0000
TZOFFSETTO:+0100
TZNAME:BST
DTSTART:20270328T010000
END:DAYLIGHT
BEGIN:STANDARD
TZOFFSETFROM:+0100
TZOFFSETTO:+0000
TZNAME:GMT
DTSTART:20271031T010000
END:STANDARD
END:VTIMEZONE
BEGIN:VEVENT
DTSTART;TZID=Europe/London:20260328T103000
DTEND;TZID=Europe/London:20260328T120000
DTSTAMP:20260420T190448
CREATED:20260225T090831Z
LAST-MODIFIED:20260225T090831Z
UID:1943-1774693800-1774699200@barthomleyvillagehall.com
SUMMARY:PCC Easter Egg Hunt
DESCRIPTION:Saturday 28th March 10.30am – 12.00 noon
URL:https://barthomleyvillagehall.com/event/pcc-easter-egg-hunt/
LOCATION:Barthomley Village Hall\, CW2 5PE
CATEGORIES:One-off
END:VEVENT
BEGIN:VEVENT
DTSTART;TZID=Europe/London:20260421T140000
DTEND;TZID=Europe/London:20260421T160000
DTSTAMP:20260420T190448
CREATED:20260225T094340Z
LAST-MODIFIED:20260225T094401Z
UID:1951-1776780000-1776787200@barthomleyvillagehall.com
SUMMARY:Teaset
DESCRIPTION:2pm – 4pm \nTuesday 21st April \nSpeaker TBA\, see Parish Newsletter for details
URL:https://barthomleyvillagehall.com/event/teaset-210426/
LOCATION:Barthomley Village Hall\, CW2 5PE
CATEGORIES:One-off
END:VEVENT
END:VCALENDAR