BEGIN:VCALENDAR
VERSION:2.0
PRODID:-//Barthomley Village Hall - ECPv6.15.11//NONSGML v1.0//EN
CALSCALE:GREGORIAN
METHOD:PUBLISH
X-ORIGINAL-URL:https://barthomleyvillagehall.com
X-WR-CALDESC:Events for Barthomley Village Hall
REFRESH-INTERVAL;VALUE=DURATION:PT1H
X-Robots-Tag:noindex
X-PUBLISHED-TTL:PT1H
BEGIN:VTIMEZONE
TZID:Europe/London
BEGIN:DAYLIGHT
TZOFFSETFROM:+0000
TZOFFSETTO:+0100
TZNAME:BST
DTSTART:20240331T010000
END:DAYLIGHT
BEGIN:STANDARD
TZOFFSETFROM:+0100
TZOFFSETTO:+0000
TZNAME:GMT
DTSTART:20241027T010000
END:STANDARD
BEGIN:DAYLIGHT
TZOFFSETFROM:+0000
TZOFFSETTO:+0100
TZNAME:BST
DTSTART:20250330T010000
END:DAYLIGHT
BEGIN:STANDARD
TZOFFSETFROM:+0100
TZOFFSETTO:+0000
TZNAME:GMT
DTSTART:20251026T010000
END:STANDARD
BEGIN:DAYLIGHT
TZOFFSETFROM:+0000
TZOFFSETTO:+0100
TZNAME:BST
DTSTART:20260329T010000
END:DAYLIGHT
BEGIN:STANDARD
TZOFFSETFROM:+0100
TZOFFSETTO:+0000
TZNAME:GMT
DTSTART:20261025T010000
END:STANDARD
END:VTIMEZONE
BEGIN:VTIMEZONE
TZID:UTC
BEGIN:STANDARD
TZOFFSETFROM:+0000
TZOFFSETTO:+0000
TZNAME:UTC
DTSTART:20240101T000000
END:STANDARD
END:VTIMEZONE
BEGIN:VEVENT
DTSTART;TZID=Europe/London:20250916T140000
DTEND;TZID=Europe/London:20250916T160000
DTSTAMP:20260420T141110
CREATED:20250828T195230Z
LAST-MODIFIED:20250828T195230Z
UID:1832-1758031200-1758038400@barthomleyvillagehall.com
SUMMARY:Teaset
DESCRIPTION:2pm Tuesday 16th September
URL:https://barthomleyvillagehall.com/event/teaset-160925/
LOCATION:Barthomley Village Hall\, CW2 5PE
CATEGORIES:One-off
END:VEVENT
BEGIN:VEVENT
DTSTART;TZID=Europe/London:20250915T191500
DTEND;TZID=Europe/London:20250915T213000
DTSTAMP:20260420T141110
CREATED:20250828T195038Z
LAST-MODIFIED:20250828T195038Z
UID:1830-1757963700-1757971800@barthomleyvillagehall.com
SUMMARY:Barthomley Fete Meeting
DESCRIPTION:Monday 15th September 7.15pm
URL:https://barthomleyvillagehall.com/event/barthomley-fete-meeting-2/
LOCATION:Barthomley Village Hall\, CW2 5PE
CATEGORIES:One-off
END:VEVENT
BEGIN:VEVENT
DTSTART;TZID=Europe/London:20250909T193000
DTEND;TZID=Europe/London:20250909T213000
DTSTAMP:20260420T141110
CREATED:20250828T194907Z
LAST-MODIFIED:20250828T194907Z
UID:1828-1757446200-1757453400@barthomleyvillagehall.com
SUMMARY:Parish Council meeting
DESCRIPTION:Tuesday 9th September 7:30pm \nMembers of the public are welcome to attend. \nAn agenda will be published on the Parish Council website in advance of the meeting.
URL:https://barthomleyvillagehall.com/event/parish-council-meeting-090925/
CATEGORIES:One-off
END:VEVENT
BEGIN:VEVENT
DTSTART;TZID=Europe/London:20250903T200000
DTEND;TZID=Europe/London:20250903T213000
DTSTAMP:20260420T141110
CREATED:20250828T194710Z
LAST-MODIFIED:20250828T194710Z
UID:1825-1756929600-1756935000@barthomleyvillagehall.com
SUMMARY:Village Hall Committee Meeting
DESCRIPTION:8.00pm 3rd September
URL:https://barthomleyvillagehall.com/event/village-hall-committee-meeting-2/
CATEGORIES:One-off
END:VEVENT
BEGIN:VEVENT
DTSTART;TZID=Europe/London:20250727T143000
DTEND;TZID=Europe/London:20250727T163000
DTSTAMP:20260420T141110
CREATED:20250624T103613Z
LAST-MODIFIED:20250705T113132Z
UID:1801-1753626600-1753633800@barthomleyvillagehall.com
SUMMARY:Strawberry Tea
DESCRIPTION:Sunday 27th July \n2.30 – 4.30pm \nIn the Rectory Garden (or in the Village Hall in the event of rain) \nStrawberries & Cream\, Scones and Tea (or bring your own drinks and glasses) \nIf you can bring a folding chair for yourself\, that would be grand! \nPlease try to come – there’s plenty of room for everyone \nTickets £5.00 in support of Church funds. \nPlease contact either Rev. Peter or Chris Bailey to reserve places.
URL:https://barthomleyvillagehall.com/event/strawberry-tea/
LOCATION:Rectory Garden\, United Kingdom
CATEGORIES:One-off
END:VEVENT
BEGIN:VEVENT
DTSTART;TZID=Europe/London:20250721T191500
DTEND;TZID=Europe/London:20250721T210000
DTSTAMP:20260420T141110
CREATED:20250624T103536Z
LAST-MODIFIED:20250624T103536Z
UID:1799-1753125300-1753131600@barthomleyvillagehall.com
SUMMARY:Village Fete Meeting
DESCRIPTION:Village Fete Meeting \nMonday 21st July 7.15pm
URL:https://barthomleyvillagehall.com/event/village-fete-meeting/
CATEGORIES:One-off
END:VEVENT
BEGIN:VEVENT
DTSTART;TZID=UTC:20250716T193000
DTEND;TZID=UTC:20250716T213000
DTSTAMP:20260420T141110
CREATED:20250624T102727Z
LAST-MODIFIED:20250624T102727Z
UID:1784-1752694200-1752701400@barthomleyvillagehall.com
SUMMARY:PCC meeting
DESCRIPTION:Wednesday 16th July 7.30 pm
URL:https://barthomleyvillagehall.com/event/pcc-meeting-2/
LOCATION:Barthomley Village Hall\, CW2 5PE
CATEGORIES:One-off
END:VEVENT
BEGIN:VEVENT
DTSTART;TZID=Europe/London:20250715T140000
DTEND;TZID=Europe/London:20250715T160000
DTSTAMP:20260420T141110
CREATED:20250624T103041Z
LAST-MODIFIED:20250715T160424Z
UID:1791-1752588000-1752595200@barthomleyvillagehall.com
SUMMARY:Teaset
DESCRIPTION:2pm Tuesday 15th July \nVisit to Norley Bank Farm Garden\, WA6 8PJ \n£6 admission. \nTeas\, coffees\, cakes and plants also available to purchase. \nFull details in June Parish Newsletter
URL:https://barthomleyvillagehall.com/event/teaset-150725/
LOCATION:Norley Bank Farm Garden\, WA6 8PJ
CATEGORIES:One-off
END:VEVENT
BEGIN:VEVENT
DTSTART;TZID=Europe/London:20250709T200000
DTEND;TZID=Europe/London:20250709T213000
DTSTAMP:20260420T141110
CREATED:20250624T102904Z
LAST-MODIFIED:20250624T102920Z
UID:1788-1752091200-1752096600@barthomleyvillagehall.com
SUMMARY:Village Hall Committee Meeting
DESCRIPTION:9th July\, 8pm
URL:https://barthomleyvillagehall.com/event/village-hall-committee-meeting-090725/
CATEGORIES:One-off
END:VEVENT
BEGIN:VEVENT
DTSTART;TZID=Europe/London:20250708T193000
DTEND;TZID=Europe/London:20250708T213000
DTSTAMP:20260420T141110
CREATED:20250624T102809Z
LAST-MODIFIED:20250624T102809Z
UID:1786-1752003000-1752010200@barthomleyvillagehall.com
SUMMARY:Parish Council meeting
DESCRIPTION:Tuesday 8th July 7:30pm \nMembers of the public are welcome to attend. \nAn agenda will be published on the Parish Council website in advance of the meeting.
URL:https://barthomleyvillagehall.com/event/parish-council-meeting/
CATEGORIES:One-off
END:VEVENT
BEGIN:VEVENT
DTSTART;TZID=Europe/London:20250621T110000
DTEND;TZID=Europe/London:20250621T170000
DTSTAMP:20260420T141110
CREATED:20250519T171914Z
LAST-MODIFIED:20250519T171914Z
UID:1768-1750503600-1750525200@barthomleyvillagehall.com
SUMMARY:Barthomley Fete
DESCRIPTION:Saturday 21st June \n11am – 5pm
URL:https://barthomleyvillagehall.com/event/barthomley-fete/
LOCATION:Barthomley Village Hall\, CW2 5PE
CATEGORIES:One-off
END:VEVENT
BEGIN:VEVENT
DTSTART;TZID=Europe/London:20250610T140000
DTEND;TZID=Europe/London:20250610T160000
DTSTAMP:20260420T141110
CREATED:20250519T172048Z
LAST-MODIFIED:20250601T153613Z
UID:1770-1749564000-1749571200@barthomleyvillagehall.com
SUMMARY:Teaset
DESCRIPTION:2pm Tuesday 10th June \n£3 including afternoon tea \nSpeaker: Rosalind Lea \n“Bystanders can be lifesavers\, and how to use the defibrillator”
URL:https://barthomleyvillagehall.com/event/teaset-copy/
LOCATION:Barthomley Village Hall\, CW2 5PE
CATEGORIES:One-off
END:VEVENT
BEGIN:VEVENT
DTSTART;TZID=Europe/London:20250609T191500
DTEND;TZID=Europe/London:20250609T220000
DTSTAMP:20260420T141110
CREATED:20250519T171650Z
LAST-MODIFIED:20250519T171737Z
UID:1766-1749496500-1749506400@barthomleyvillagehall.com
SUMMARY:Barthomley Fete Meeting
DESCRIPTION:7.15pm
URL:https://barthomleyvillagehall.com/event/barthomley-fete-meeting/
CATEGORIES:One-off
END:VEVENT
BEGIN:VEVENT
DTSTART;TZID=UTC:20250514T193000
DTEND;TZID=UTC:20250514T213000
DTSTAMP:20260420T141110
CREATED:20250416T123045Z
LAST-MODIFIED:20250416T123045Z
UID:1748-1747251000-1747258200@barthomleyvillagehall.com
SUMMARY:PCC meeting
DESCRIPTION:Wednesday 14th May 7.30 pm
URL:https://barthomleyvillagehall.com/event/pcc-meeting/
LOCATION:Barthomley Village Hall\, CW2 5PE
CATEGORIES:One-off
END:VEVENT
BEGIN:VEVENT
DTSTART;TZID=Europe/London:20250513T193000
DTEND;TZID=Europe/London:20250513T213000
DTSTAMP:20260420T141110
CREATED:20250416T122929Z
LAST-MODIFIED:20250416T122929Z
UID:1746-1747164600-1747171800@barthomleyvillagehall.com
SUMMARY:Parish Council meeting - inc. AGM
DESCRIPTION:Tuesday 13th May 7:30pm \nMembers of the public are welcome to attend. \nAn agenda will be published on the Parish Council website in advance of the meeting.
URL:https://barthomleyvillagehall.com/event/parish-council-meeting-inc-agm/
CATEGORIES:One-off
END:VEVENT
BEGIN:VEVENT
DTSTART;TZID=Europe/London:20250513T140000
DTEND;TZID=Europe/London:20250513T160000
DTSTAMP:20260420T141110
CREATED:20250416T123217Z
LAST-MODIFIED:20250417T144453Z
UID:1750-1747144800-1747152000@barthomleyvillagehall.com
SUMMARY:Teaset
DESCRIPTION:2pm Tuesday 13th May \n£3 including afternoon tea \nSpeaker TBA
URL:https://barthomleyvillagehall.com/event/teaset-2/
LOCATION:Barthomley Village Hall\, CW2 5PE
CATEGORIES:One-off
END:VEVENT
BEGIN:VEVENT
DTSTART;TZID=Europe/London:20250507T200000
DTEND;TZID=Europe/London:20250507T213000
DTSTAMP:20260420T141110
CREATED:20250416T123406Z
LAST-MODIFIED:20250416T123406Z
UID:1752-1746648000-1746653400@barthomleyvillagehall.com
SUMMARY:Village Hall AGM
DESCRIPTION:8pm Wednesday 7th May \nAll welcome
URL:https://barthomleyvillagehall.com/event/village-hall-agm-2/
CATEGORIES:One-off
END:VEVENT
BEGIN:VEVENT
DTSTART;TZID=Europe/London:20250419T110000
DTEND;TZID=Europe/London:20250419T140000
DTSTAMP:20260420T141110
CREATED:20250322T125325Z
LAST-MODIFIED:20250322T150201Z
UID:1731-1745060400-1745071200@barthomleyvillagehall.com
SUMMARY:Easter Egg Hunt
DESCRIPTION:Details in Parish Newsletter
URL:https://barthomleyvillagehall.com/event/easter-egg-hunt/
CATEGORIES:One-off
END:VEVENT
BEGIN:VEVENT
DTSTART;TZID=Europe/London:20250415T140000
DTEND;TZID=Europe/London:20250415T160000
DTSTAMP:20260420T141110
CREATED:20250322T125427Z
LAST-MODIFIED:20250412T100632Z
UID:1733-1744725600-1744732800@barthomleyvillagehall.com
SUMMARY:Teaset
DESCRIPTION:15th April\, 2-4pm \nMemories of Barthomley \nWith pictures and mementos from former pupils \n£3 including afternoon tea \n 
URL:https://barthomleyvillagehall.com/event/teaset/
LOCATION:Barthomley Village Hall\, CW2 5PE
CATEGORIES:One-off
END:VEVENT
BEGIN:VEVENT
DTSTART;TZID=Europe/London:20250331T191500
DTEND;TZID=Europe/London:20250331T220000
DTSTAMP:20260420T141110
CREATED:20250322T124803Z
LAST-MODIFIED:20250322T124803Z
UID:1719-1743448500-1743458400@barthomleyvillagehall.com
SUMMARY:Village Fun Day Meeting
DESCRIPTION:Monday 31st March 7.15pm
URL:https://barthomleyvillagehall.com/event/village-fun-day-meeting/
LOCATION:Barthomley Village Hall\, CW2 5PE
CATEGORIES:One-off
END:VEVENT
BEGIN:VEVENT
DTSTART;TZID=UTC:20250319T193000
DTEND;TZID=UTC:20250319T213000
DTSTAMP:20260420T141110
CREATED:20250219T145733Z
LAST-MODIFIED:20250219T145733Z
UID:1716-1742412600-1742419800@barthomleyvillagehall.com
SUMMARY:PCC meeting
DESCRIPTION:Wednesday 19th March 7.30 pm
URL:https://barthomleyvillagehall.com/event/pcc-meeting-190325/
LOCATION:Barthomley Village Hall\, CW2 5PE
CATEGORIES:One-off
END:VEVENT
BEGIN:VEVENT
DTSTART;TZID=Europe/London:20250318T140000
DTEND;TZID=Europe/London:20250318T160000
DTSTAMP:20260420T141110
CREATED:20250219T145630Z
LAST-MODIFIED:20250219T145630Z
UID:1714-1742306400-1742313600@barthomleyvillagehall.com
SUMMARY:Teaset
DESCRIPTION:18th March\, 2-4pm \nSee Parish Newsletter for details \n 
URL:https://barthomleyvillagehall.com/event/teaset-180325/
LOCATION:Barthomley Village Hall\, CW2 5PE
CATEGORIES:One-off
END:VEVENT
BEGIN:VEVENT
DTSTART;TZID=Europe/London:20250312T190000
DTEND;TZID=Europe/London:20250312T210000
DTSTAMP:20260420T141110
CREATED:20250219T145515Z
LAST-MODIFIED:20250219T145536Z
UID:1712-1741806000-1741813200@barthomleyvillagehall.com
SUMMARY:Bowling Club AGM
DESCRIPTION:12th March\, 7 pm \nALL WELCOME
URL:https://barthomleyvillagehall.com/event/bowling-club-agm-120325/
CATEGORIES:One-off
END:VEVENT
BEGIN:VEVENT
DTSTART;TZID=Europe/London:20250311T193000
DTEND;TZID=Europe/London:20250311T213000
DTSTAMP:20260420T141110
CREATED:20250219T145358Z
LAST-MODIFIED:20250219T145358Z
UID:1710-1741721400-1741728600@barthomleyvillagehall.com
SUMMARY:Parish Council meeting
DESCRIPTION:Tuesday 11th March January 7:30pm \nMembers of the public are welcome to attend. \nAn agenda will be published on the Parish Council website in advance of the meeting.
URL:https://barthomleyvillagehall.com/event/parish-council-meeting-110325/
CATEGORIES:One-off
END:VEVENT
BEGIN:VEVENT
DTSTART;TZID=Europe/London:20250310T191500
DTEND;TZID=Europe/London:20250310T213000
DTSTAMP:20260420T141110
CREATED:20250219T145246Z
LAST-MODIFIED:20250219T145415Z
UID:1708-1741634100-1741642200@barthomleyvillagehall.com
SUMMARY:Village Day AGM
DESCRIPTION:10th March 7.15pm \nALL WELCOME
URL:https://barthomleyvillagehall.com/event/village-day-agm-100325/
LOCATION:Barthomley Village Hall\, CW2 5PE
CATEGORIES:One-off
END:VEVENT
BEGIN:VEVENT
DTSTART;TZID=Europe/London:20250305T200000
DTEND;TZID=Europe/London:20250305T213000
DTSTAMP:20260420T141110
CREATED:20250219T145056Z
LAST-MODIFIED:20250219T145056Z
UID:1706-1741204800-1741210200@barthomleyvillagehall.com
SUMMARY:Village Hall Committee Meeting
DESCRIPTION:5th March\, 8pm
URL:https://barthomleyvillagehall.com/event/village-hall-committee-meeting-050325/
CATEGORIES:One-off
END:VEVENT
BEGIN:VEVENT
DTSTART;TZID=Europe/London:20250218T140000
DTEND;TZID=Europe/London:20250218T160000
DTSTAMP:20260420T141110
CREATED:20250117T120009Z
LAST-MODIFIED:20250117T120033Z
UID:1685-1739887200-1739894400@barthomleyvillagehall.com
SUMMARY:Teaset
DESCRIPTION:18th February\, 2-4pm \nA couple whose garden is opened for the National Garden Scheme \n 
URL:https://barthomleyvillagehall.com/event/teaset-180225/
LOCATION:Barthomley Village Hall\, CW2 5PE
CATEGORIES:One-off
END:VEVENT
BEGIN:VEVENT
DTSTART;TZID=UTC:20250122T193000
DTEND;TZID=UTC:20250122T213000
DTSTAMP:20260420T141110
CREATED:20241116T141622Z
LAST-MODIFIED:20241116T141622Z
UID:1664-1737574200-1737581400@barthomleyvillagehall.com
SUMMARY:PCC meeting
DESCRIPTION:Wednesday 22nd January 7.30 pm
URL:https://barthomleyvillagehall.com/event/pcc-meeting-220125/
LOCATION:Barthomley Village Hall\, CW2 5PE
CATEGORIES:One-off
END:VEVENT
BEGIN:VEVENT
DTSTART;TZID=Europe/London:20250121T140000
DTEND;TZID=Europe/London:20250121T160000
DTSTAMP:20260420T141110
CREATED:20241116T141940Z
LAST-MODIFIED:20241116T141940Z
UID:1670-1737468000-1737475200@barthomleyvillagehall.com
SUMMARY:Teaset
DESCRIPTION:21st January\, 2-4pm \nPaula White from Radio Stoke \n 
URL:https://barthomleyvillagehall.com/event/teaset-210125/
CATEGORIES:One-off
END:VEVENT
BEGIN:VEVENT
DTSTART;TZID=Europe/London:20250115T200000
DTEND;TZID=Europe/London:20250115T213000
DTSTAMP:20260420T141110
CREATED:20241116T141831Z
LAST-MODIFIED:20241116T141831Z
UID:1668-1736971200-1736976600@barthomleyvillagehall.com
SUMMARY:Village Hall Committee Meeting
DESCRIPTION:15th January\, 8pm
URL:https://barthomleyvillagehall.com/event/village-hall-committee-meeting-150125/
CATEGORIES:One-off
END:VEVENT
END:VCALENDAR