BEGIN:VCALENDAR
VERSION:2.0
PRODID:-//Barthomley Village Hall - ECPv6.15.11//NONSGML v1.0//EN
CALSCALE:GREGORIAN
METHOD:PUBLISH
X-WR-CALNAME:Barthomley Village Hall
X-ORIGINAL-URL:https://barthomleyvillagehall.com
X-WR-CALDESC:Events for Barthomley Village Hall
REFRESH-INTERVAL;VALUE=DURATION:PT1H
X-Robots-Tag:noindex
X-PUBLISHED-TTL:PT1H
BEGIN:VTIMEZONE
TZID:Europe/London
BEGIN:DAYLIGHT
TZOFFSETFROM:+0000
TZOFFSETTO:+0100
TZNAME:BST
DTSTART:20240331T010000
END:DAYLIGHT
BEGIN:STANDARD
TZOFFSETFROM:+0100
TZOFFSETTO:+0000
TZNAME:GMT
DTSTART:20241027T010000
END:STANDARD
BEGIN:DAYLIGHT
TZOFFSETFROM:+0000
TZOFFSETTO:+0100
TZNAME:BST
DTSTART:20250330T010000
END:DAYLIGHT
BEGIN:STANDARD
TZOFFSETFROM:+0100
TZOFFSETTO:+0000
TZNAME:GMT
DTSTART:20251026T010000
END:STANDARD
BEGIN:DAYLIGHT
TZOFFSETFROM:+0000
TZOFFSETTO:+0100
TZNAME:BST
DTSTART:20260329T010000
END:DAYLIGHT
BEGIN:STANDARD
TZOFFSETFROM:+0100
TZOFFSETTO:+0000
TZNAME:GMT
DTSTART:20261025T010000
END:STANDARD
END:VTIMEZONE
BEGIN:VEVENT
DTSTART;TZID=Europe/London:20250901T180000
DTEND;TZID=Europe/London:20250901T190000
DTSTAMP:20260421T121301
CREATED:20250828T194318Z
LAST-MODIFIED:20250828T194318Z
UID:1815-1756749600-1756753200@barthomleyvillagehall.com
SUMMARY:Yoga
DESCRIPTION:6.00pm – 7.00pm
URL:https://barthomleyvillagehall.com/event/yoga-010925/
LOCATION:Barthomley Village Hall\, CW2 5PE
CATEGORIES:Regular meetings
END:VEVENT
BEGIN:VEVENT
DTSTART;TZID=Europe/London:20250908T180000
DTEND;TZID=Europe/London:20250908T190000
DTSTAMP:20260421T121301
CREATED:20250828T194408Z
LAST-MODIFIED:20250828T194408Z
UID:1818-1757354400-1757358000@barthomleyvillagehall.com
SUMMARY:Yoga
DESCRIPTION:6.00pm – 7.00pm
URL:https://barthomleyvillagehall.com/event/yoga-080925/
LOCATION:Barthomley Village Hall\, CW2 5PE
CATEGORIES:Regular meetings
END:VEVENT
BEGIN:VEVENT
DTSTART;TZID=Europe/London:20250915T180000
DTEND;TZID=Europe/London:20250915T190000
DTSTAMP:20260421T121301
CREATED:20250828T194451Z
LAST-MODIFIED:20250828T194451Z
UID:1820-1757959200-1757962800@barthomleyvillagehall.com
SUMMARY:Yoga
DESCRIPTION:6.00pm – 7.00pm
URL:https://barthomleyvillagehall.com/event/yoga-150925/
LOCATION:Barthomley Village Hall\, CW2 5PE
CATEGORIES:Regular meetings
END:VEVENT
BEGIN:VEVENT
DTSTART;TZID=Europe/London:20250922T180000
DTEND;TZID=Europe/London:20250922T190000
DTSTAMP:20260421T121301
CREATED:20250828T194535Z
LAST-MODIFIED:20250828T194535Z
UID:1821-1758564000-1758567600@barthomleyvillagehall.com
SUMMARY:Yoga
DESCRIPTION:6.00pm – 7.00pm
URL:https://barthomleyvillagehall.com/event/yoga-220825/
LOCATION:Barthomley Village Hall\, CW2 5PE
CATEGORIES:Regular meetings
END:VEVENT
END:VCALENDAR