BEGIN:VCALENDAR
VERSION:2.0
PRODID:-//Barthomley Village Hall - ECPv6.15.11//NONSGML v1.0//EN
CALSCALE:GREGORIAN
METHOD:PUBLISH
X-WR-CALNAME:Barthomley Village Hall
X-ORIGINAL-URL:https://barthomleyvillagehall.com
X-WR-CALDESC:Events for Barthomley Village Hall
REFRESH-INTERVAL;VALUE=DURATION:PT1H
X-Robots-Tag:noindex
X-PUBLISHED-TTL:PT1H
BEGIN:VTIMEZONE
TZID:UTC
BEGIN:STANDARD
TZOFFSETFROM:+0000
TZOFFSETTO:+0000
TZNAME:UTC
DTSTART:20220101T000000
END:STANDARD
END:VTIMEZONE
BEGIN:VTIMEZONE
TZID:Europe/London
BEGIN:DAYLIGHT
TZOFFSETFROM:+0000
TZOFFSETTO:+0100
TZNAME:BST
DTSTART:20220327T010000
END:DAYLIGHT
BEGIN:STANDARD
TZOFFSETFROM:+0100
TZOFFSETTO:+0000
TZNAME:GMT
DTSTART:20221030T010000
END:STANDARD
BEGIN:DAYLIGHT
TZOFFSETFROM:+0000
TZOFFSETTO:+0100
TZNAME:BST
DTSTART:20230326T010000
END:DAYLIGHT
BEGIN:STANDARD
TZOFFSETFROM:+0100
TZOFFSETTO:+0000
TZNAME:GMT
DTSTART:20231029T010000
END:STANDARD
BEGIN:DAYLIGHT
TZOFFSETFROM:+0000
TZOFFSETTO:+0100
TZNAME:BST
DTSTART:20240331T010000
END:DAYLIGHT
BEGIN:STANDARD
TZOFFSETFROM:+0100
TZOFFSETTO:+0000
TZNAME:GMT
DTSTART:20241027T010000
END:STANDARD
END:VTIMEZONE
BEGIN:VEVENT
DTSTART;TZID=UTC:20231115T190000
DTEND;TZID=UTC:20231115T210000
DTSTAMP:20260420T141442
CREATED:20231021T164032Z
LAST-MODIFIED:20231021T164137Z
UID:1336-1700074800-1700082000@barthomleyvillagehall.com
SUMMARY:PCC
DESCRIPTION:Wednesday  15th November 7pm
URL:https://barthomleyvillagehall.com/event/pcc-151123/
CATEGORIES:One-off
END:VEVENT
BEGIN:VEVENT
DTSTART;TZID=Europe/London:20231113T180000
DTEND;TZID=Europe/London:20231113T190000
DTSTAMP:20260420T141442
CREATED:20231021T163808Z
LAST-MODIFIED:20231021T163808Z
UID:1332-1699898400-1699902000@barthomleyvillagehall.com
SUMMARY:Yoga
DESCRIPTION:6.00 – 7.00 pm
URL:https://barthomleyvillagehall.com/event/yoga-131123/
LOCATION:Barthomley Village Hall\, CW2 5PE
CATEGORIES:Regular meetings
END:VEVENT
BEGIN:VEVENT
DTSTART;TZID=UTC:20231111T190000
DTEND;TZID=UTC:20231111T220000
DTSTAMP:20260420T141442
CREATED:20231021T150441Z
LAST-MODIFIED:20231021T150658Z
UID:1329-1699729200-1699740000@barthomleyvillagehall.com
SUMMARY:Cheese and Wine Quiz
DESCRIPTION:An evening of Cheese and Wine with a Quiz. \n7pm on the 11th of November. \nTickets £10\, sponsorship of a wine or cheese £20. \nFor either or both please contact Simon Gresty on 07766 655066. \nMonies raised for St Bertoline’s Church.
URL:https://barthomleyvillagehall.com/event/cheese-and-wine-quiz/
LOCATION:Barthomley Village Hall\, CW2 5PE
CATEGORIES:One-off
END:VEVENT
BEGIN:VEVENT
DTSTART;TZID=UTC:20231107T190000
DTEND;TZID=UTC:20231107T210000
DTSTAMP:20260420T141442
CREATED:20231021T145635Z
LAST-MODIFIED:20231021T145635Z
UID:1327-1699383600-1699390800@barthomleyvillagehall.com
SUMMARY:WI
DESCRIPTION:7th November 7pm
URL:https://barthomleyvillagehall.com/event/wi-071123/
CATEGORIES:Regular meetings
END:VEVENT
BEGIN:VEVENT
DTSTART;TZID=Europe/London:20231106T180000
DTEND;TZID=Europe/London:20231106T190000
DTSTAMP:20260420T141442
CREATED:20231021T145547Z
LAST-MODIFIED:20231021T145547Z
UID:1325-1699293600-1699297200@barthomleyvillagehall.com
SUMMARY:Yoga
DESCRIPTION:6.00 – 7.00 pm
URL:https://barthomleyvillagehall.com/event/yoga-061123/
LOCATION:Barthomley Village Hall\, CW2 5PE
CATEGORIES:Regular meetings
END:VEVENT
BEGIN:VEVENT
DTSTART;TZID=Europe/London:20231030T180000
DTEND;TZID=Europe/London:20231030T190000
DTSTAMP:20260420T141442
CREATED:20230913T095340Z
LAST-MODIFIED:20230913T095340Z
UID:1309-1698688800-1698692400@barthomleyvillagehall.com
SUMMARY:Yoga
DESCRIPTION:6.00 – 7.00 pm
URL:https://barthomleyvillagehall.com/event/yoga-301023/
LOCATION:Barthomley Village Hall\, CW2 5PE
CATEGORIES:Regular meetings
END:VEVENT
BEGIN:VEVENT
DTSTART;TZID=Europe/London:20231023T180000
DTEND;TZID=Europe/London:20231023T190000
DTSTAMP:20260420T141442
CREATED:20230913T095625Z
LAST-MODIFIED:20230913T095625Z
UID:1311-1698084000-1698087600@barthomleyvillagehall.com
SUMMARY:NO Yoga (Half term)
DESCRIPTION:No yoga this evening (Half Term)
URL:https://barthomleyvillagehall.com/event/noyoga231023/
LOCATION:Barthomley Village Hall\, CW2 5PE
CATEGORIES:Regular meetings
END:VEVENT
BEGIN:VEVENT
DTSTART;TZID=UTC:20231017T140000
DTEND;TZID=UTC:20231017T160000
DTSTAMP:20260420T141442
CREATED:20230801T083033Z
LAST-MODIFIED:20230913T100414Z
UID:1265-1697551200-1697558400@barthomleyvillagehall.com
SUMMARY:Tea Set
DESCRIPTION:Tuesday 17th October 2.00 – 4.00pm \nJohn Dwyer – Cheshire Police and Crime Commissioner
URL:https://barthomleyvillagehall.com/event/tea-set-oct23/
CATEGORIES:One-off
END:VEVENT
BEGIN:VEVENT
DTSTART;TZID=Europe/London:20231016T180000
DTEND;TZID=Europe/London:20231016T190000
DTSTAMP:20260420T141442
CREATED:20230913T095209Z
LAST-MODIFIED:20230913T095235Z
UID:1306-1697479200-1697482800@barthomleyvillagehall.com
SUMMARY:Yoga
DESCRIPTION:6.00 – 7.00 pm
URL:https://barthomleyvillagehall.com/event/yoga-161023/
LOCATION:Barthomley Village Hall\, CW2 5PE
CATEGORIES:Regular meetings
END:VEVENT
BEGIN:VEVENT
DTSTART;TZID=Europe/London:20231009T180000
DTEND;TZID=Europe/London:20231009T190000
DTSTAMP:20260420T141442
CREATED:20230913T095102Z
LAST-MODIFIED:20230913T095102Z
UID:1304-1696874400-1696878000@barthomleyvillagehall.com
SUMMARY:Yoga
DESCRIPTION:6.00 – 7.00 pm
URL:https://barthomleyvillagehall.com/event/yoga-091023/
LOCATION:Barthomley Village Hall\, CW2 5PE
CATEGORIES:Regular meetings
END:VEVENT
BEGIN:VEVENT
DTSTART;TZID=UTC:20231007T190000
DTEND;TZID=UTC:20231007T220000
DTSTAMP:20260420T141442
CREATED:20230823T163841Z
LAST-MODIFIED:20230823T163841Z
UID:1292-1696705200-1696716000@barthomleyvillagehall.com
SUMMARY:Harvest Supper
DESCRIPTION:SATURDAY 7th OCTOBER \n7.00pm for 7.30pm \nIn Barthomley Village Hall \nTickets £12-50 under 12s £5-00 \nBring your own drinks \nRaffle and entertainment following the meal \nTickets available from Janet Peacock 01270 873758 \nand Chris Bailey 01270 873253 \nThis is a joint Village Hall Committee and PCC Event \n 
URL:https://barthomleyvillagehall.com/event/harvest-supper/
CATEGORIES:One-off
END:VEVENT
BEGIN:VEVENT
DTSTART;TZID=UTC:20231003T190000
DTEND;TZID=UTC:20231003T210000
DTSTAMP:20260420T141442
CREATED:20230913T095004Z
LAST-MODIFIED:20230913T095004Z
UID:1302-1696359600-1696366800@barthomleyvillagehall.com
SUMMARY:WI
DESCRIPTION:3rd October 7pm
URL:https://barthomleyvillagehall.com/event/wi-031023/
CATEGORIES:Regular meetings
END:VEVENT
BEGIN:VEVENT
DTSTART;TZID=Europe/London:20231002T180000
DTEND;TZID=Europe/London:20231002T190000
DTSTAMP:20260420T141442
CREATED:20230913T094823Z
LAST-MODIFIED:20230913T094823Z
UID:1300-1696269600-1696273200@barthomleyvillagehall.com
SUMMARY:Yoga
DESCRIPTION:6.00 – 7.00 pm
URL:https://barthomleyvillagehall.com/event/yoga-021023/
LOCATION:Barthomley Village Hall\, CW2 5PE
CATEGORIES:Regular meetings
END:VEVENT
BEGIN:VEVENT
DTSTART;TZID=UTC:20230925T200000
DTEND;TZID=UTC:20230925T213000
DTSTAMP:20260420T141442
CREATED:20230821T112504Z
LAST-MODIFIED:20230914T141440Z
UID:1285-1695672000-1695677400@barthomleyvillagehall.com
SUMMARY:Village Hall Committee
DESCRIPTION:Monday 25th September 8pm \nAll welcome
URL:https://barthomleyvillagehall.com/event/village-hall-committee-250923/
CATEGORIES:One-off
END:VEVENT
BEGIN:VEVENT
DTSTART;TZID=Europe/London:20230925T180000
DTEND;TZID=Europe/London:20230925T190000
DTSTAMP:20260420T141442
CREATED:20230821T112103Z
LAST-MODIFIED:20230821T112103Z
UID:1277-1695664800-1695668400@barthomleyvillagehall.com
SUMMARY:Yoga
DESCRIPTION:6.00 – 7.00 pm
URL:https://barthomleyvillagehall.com/event/yoga-8/
LOCATION:Barthomley Village Hall\, CW2 5PE
CATEGORIES:Regular meetings
END:VEVENT
BEGIN:VEVENT
DTSTART;TZID=UTC:20230920T193000
DTEND;TZID=UTC:20230920T203000
DTSTAMP:20260420T141442
CREATED:20230913T145055Z
LAST-MODIFIED:20230913T145927Z
UID:1319-1695238200-1695241800@barthomleyvillagehall.com
SUMMARY:Parish Council (Extra Meeting)
DESCRIPTION:Wednesday 20th September 7:30
URL:https://barthomleyvillagehall.com/event/parish-council-extra-meeting-200923/
CATEGORIES:One-off
END:VEVENT
BEGIN:VEVENT
DTSTART;TZID=UTC:20230919T140000
DTEND;TZID=UTC:20230919T160000
DTSTAMP:20260420T141442
CREATED:20230801T082830Z
LAST-MODIFIED:20230914T141551Z
UID:1262-1695132000-1695139200@barthomleyvillagehall.com
SUMMARY:Tea Set
DESCRIPTION:Tuesday 19th September 2.00 – 4.00pm \nSpeaker MARGARET ROBERTS subject “Family History” – how to start researching your family tree. \nCome and enjoy a good speaker and splendid tea. \n 
URL:https://barthomleyvillagehall.com/event/tea-set-sept23/
CATEGORIES:One-off
END:VEVENT
BEGIN:VEVENT
DTSTART;TZID=Europe/London:20230918T180000
DTEND;TZID=Europe/London:20230918T190000
DTSTAMP:20260420T141442
CREATED:20230821T111907Z
LAST-MODIFIED:20230821T112006Z
UID:1273-1695060000-1695063600@barthomleyvillagehall.com
SUMMARY:Yoga
DESCRIPTION:6.00 – 7.00 pm
URL:https://barthomleyvillagehall.com/event/yoga-180923/
LOCATION:Barthomley Village Hall\, CW2 5PE
CATEGORIES:Regular meetings
END:VEVENT
BEGIN:VEVENT
DTSTART;TZID=UTC:20230913T193000
DTEND;TZID=UTC:20230913T213000
DTSTAMP:20260420T141442
CREATED:20230821T112313Z
LAST-MODIFIED:20230821T112333Z
UID:1282-1694633400-1694640600@barthomleyvillagehall.com
SUMMARY:PCC
DESCRIPTION:Wednesday  13th September 7pm
URL:https://barthomleyvillagehall.com/event/pcc-130923/
CATEGORIES:One-off
END:VEVENT
BEGIN:VEVENT
DTSTART;TZID=UTC:20230912T200000
DTEND;TZID=UTC:20230912T220000
DTSTAMP:20260420T141442
CREATED:20230619T081157Z
LAST-MODIFIED:20230907T114425Z
UID:1239-1694548800-1694556000@barthomleyvillagehall.com
SUMMARY:Parish Council meeting
DESCRIPTION:Tuesday 12th September 8.00pm \nMembers of the public are welcome to attend. \nAn agenda will be published on the Parish Council website in advance of the meeting.
URL:https://barthomleyvillagehall.com/event/parish-council-meeting-120923/
CATEGORIES:One-off
END:VEVENT
BEGIN:VEVENT
DTSTART;TZID=Europe/London:20230911T180000
DTEND;TZID=Europe/London:20230911T190000
DTSTAMP:20260420T141442
CREATED:20230821T112655Z
LAST-MODIFIED:20230821T112655Z
UID:1288-1694455200-1694458800@barthomleyvillagehall.com
SUMMARY:Yoga
DESCRIPTION:6.00 – 7.00 pm
URL:https://barthomleyvillagehall.com/event/yoga-9/
LOCATION:Barthomley Village Hall\, CW2 5PE
CATEGORIES:Regular meetings
END:VEVENT
BEGIN:VEVENT
DTSTART;TZID=UTC:20230905T190000
DTEND;TZID=UTC:20230905T210000
DTSTAMP:20260420T141442
CREATED:20230821T112141Z
LAST-MODIFIED:20230821T112155Z
UID:1279-1693940400-1693947600@barthomleyvillagehall.com
SUMMARY:WI
DESCRIPTION:5th September 7pm
URL:https://barthomleyvillagehall.com/event/wi-050923/
CATEGORIES:Regular meetings
END:VEVENT
BEGIN:VEVENT
DTSTART;TZID=Europe/London:20230904T180000
DTEND;TZID=Europe/London:20230904T190000
DTSTAMP:20260420T141442
CREATED:20230821T111822Z
LAST-MODIFIED:20230821T112029Z
UID:1270-1693850400-1693854000@barthomleyvillagehall.com
SUMMARY:Yoga
DESCRIPTION:6.00 – 7.00 pm
URL:https://barthomleyvillagehall.com/event/yoga-040923/
LOCATION:Barthomley Village Hall\, CW2 5PE
CATEGORIES:Regular meetings
END:VEVENT
BEGIN:VEVENT
DTSTART;TZID=UTC:20230801T190000
DTEND;TZID=UTC:20230801T210000
DTSTAMP:20260420T141442
CREATED:20230619T092243Z
LAST-MODIFIED:20230619T092243Z
UID:1246-1690916400-1690923600@barthomleyvillagehall.com
SUMMARY:WI
DESCRIPTION:1st August 7pm
URL:https://barthomleyvillagehall.com/event/wi-3/
CATEGORIES:Regular meetings
END:VEVENT
BEGIN:VEVENT
DTSTART;TZID=UTC:20230725T200000
DTEND;TZID=UTC:20230725T213000
DTSTAMP:20260420T141442
CREATED:20230619T081622Z
LAST-MODIFIED:20230725T150152Z
UID:1243-1690315200-1690320600@barthomleyvillagehall.com
SUMMARY:Village Hall Committee
DESCRIPTION:Tuesday 25th July 8pm \nAll welcome
URL:https://barthomleyvillagehall.com/event/village-hall-committee/
CATEGORIES:One-off
END:VEVENT
BEGIN:VEVENT
DTSTART;TZID=UTC:20230719T193000
DTEND;TZID=UTC:20230719T213000
DTSTAMP:20260420T141442
CREATED:20230619T081526Z
LAST-MODIFIED:20230705T164045Z
UID:1241-1689795000-1689802200@barthomleyvillagehall.com
SUMMARY:PCC
DESCRIPTION:Wednesday  19th July 7pm
URL:https://barthomleyvillagehall.com/event/pcc/
CATEGORIES:One-off
END:VEVENT
BEGIN:VEVENT
DTSTART;TZID=UTC:20230718T140000
DTEND;TZID=UTC:20230718T160000
DTSTAMP:20260420T141442
CREATED:20230619T080727Z
LAST-MODIFIED:20230717T125648Z
UID:1236-1689688800-1689696000@barthomleyvillagehall.com
SUMMARY:Tea Set
DESCRIPTION:Tuesday 18th July 2.00 – 4.00pm \nCrewe Hall at war
URL:https://barthomleyvillagehall.com/event/tea-set-2/
CATEGORIES:One-off
END:VEVENT
BEGIN:VEVENT
DTSTART;TZID=Europe/London:20230717T180000
DTEND;TZID=Europe/London:20230717T190000
DTSTAMP:20260420T141442
CREATED:20230619T080534Z
LAST-MODIFIED:20230619T080557Z
UID:1231-1689616800-1689620400@barthomleyvillagehall.com
SUMMARY:Yoga
DESCRIPTION:Last session before summer break
URL:https://barthomleyvillagehall.com/event/yoga-7/
LOCATION:Barthomley Village Hall\, CW2 5PE
CATEGORIES:Regular meetings
END:VEVENT
BEGIN:VEVENT
DTSTART;TZID=Europe/London:20230710T180000
DTEND;TZID=Europe/London:20230710T190000
DTSTAMP:20260420T141442
CREATED:20230619T080517Z
LAST-MODIFIED:20230619T080517Z
UID:1229-1689012000-1689015600@barthomleyvillagehall.com
SUMMARY:Yoga
DESCRIPTION:
URL:https://barthomleyvillagehall.com/event/yoga-6/
LOCATION:Barthomley Village Hall\, CW2 5PE
CATEGORIES:Regular meetings
END:VEVENT
BEGIN:VEVENT
DTSTART;TZID=UTC:20230704T190000
DTEND;TZID=UTC:20230704T210000
DTSTAMP:20260420T141442
CREATED:20230619T080625Z
LAST-MODIFIED:20230619T080625Z
UID:1234-1688497200-1688504400@barthomleyvillagehall.com
SUMMARY:WI
DESCRIPTION:
URL:https://barthomleyvillagehall.com/event/wi-2/
CATEGORIES:Regular meetings
END:VEVENT
END:VCALENDAR