BEGIN:VCALENDAR
VERSION:2.0
PRODID:-//Barthomley Village Hall - ECPv6.15.11//NONSGML v1.0//EN
CALSCALE:GREGORIAN
METHOD:PUBLISH
X-ORIGINAL-URL:https://barthomleyvillagehall.com
X-WR-CALDESC:Events for Barthomley Village Hall
REFRESH-INTERVAL;VALUE=DURATION:PT1H
X-Robots-Tag:noindex
X-PUBLISHED-TTL:PT1H
BEGIN:VTIMEZONE
TZID:Europe/London
BEGIN:DAYLIGHT
TZOFFSETFROM:+0000
TZOFFSETTO:+0100
TZNAME:BST
DTSTART:20230326T010000
END:DAYLIGHT
BEGIN:STANDARD
TZOFFSETFROM:+0100
TZOFFSETTO:+0000
TZNAME:GMT
DTSTART:20231029T010000
END:STANDARD
BEGIN:DAYLIGHT
TZOFFSETFROM:+0000
TZOFFSETTO:+0100
TZNAME:BST
DTSTART:20240331T010000
END:DAYLIGHT
BEGIN:STANDARD
TZOFFSETFROM:+0100
TZOFFSETTO:+0000
TZNAME:GMT
DTSTART:20241027T010000
END:STANDARD
BEGIN:DAYLIGHT
TZOFFSETFROM:+0000
TZOFFSETTO:+0100
TZNAME:BST
DTSTART:20250330T010000
END:DAYLIGHT
BEGIN:STANDARD
TZOFFSETFROM:+0100
TZOFFSETTO:+0000
TZNAME:GMT
DTSTART:20251026T010000
END:STANDARD
BEGIN:DAYLIGHT
TZOFFSETFROM:+0000
TZOFFSETTO:+0100
TZNAME:BST
DTSTART:20260329T010000
END:DAYLIGHT
BEGIN:STANDARD
TZOFFSETFROM:+0100
TZOFFSETTO:+0000
TZNAME:GMT
DTSTART:20261025T010000
END:STANDARD
END:VTIMEZONE
BEGIN:VTIMEZONE
TZID:UTC
BEGIN:STANDARD
TZOFFSETFROM:+0000
TZOFFSETTO:+0000
TZNAME:UTC
DTSTART:20240101T000000
END:STANDARD
END:VTIMEZONE
BEGIN:VEVENT
DTSTART;TZID=Europe/London:20241231T190000
DTEND;TZID=Europe/London:20250101T130000
DTSTAMP:20260420T124924
CREATED:20241116T141415Z
LAST-MODIFIED:20241116T141415Z
UID:1659-1735671600-1735736400@barthomleyvillagehall.com
SUMMARY:Village New Year's Eve Party
DESCRIPTION:See details in newsletter
URL:https://barthomleyvillagehall.com/event/village-new-years-eve-party-311224/
CATEGORIES:One-off
END:VEVENT
BEGIN:VEVENT
DTSTART;TZID=Europe/London:20250106T180000
DTEND;TZID=Europe/London:20250106T190000
DTSTAMP:20260420T124924
CREATED:20241116T140716Z
LAST-MODIFIED:20241116T140727Z
UID:1642-1736186400-1736190000@barthomleyvillagehall.com
SUMMARY:Yoga
DESCRIPTION:6.00pm – 7.00pm
URL:https://barthomleyvillagehall.com/event/yoga-060125/
LOCATION:Barthomley Village Hall\, CW2 5PE
CATEGORIES:Regular meetings
END:VEVENT
BEGIN:VEVENT
DTSTART;TZID=UTC:20250107T190000
DTEND;TZID=UTC:20250107T210000
DTSTAMP:20260420T124924
CREATED:20241116T141452Z
LAST-MODIFIED:20241116T141521Z
UID:1661-1736276400-1736283600@barthomleyvillagehall.com
SUMMARY:WI
DESCRIPTION:7th January 7pm
URL:https://barthomleyvillagehall.com/event/wi-070125/
LOCATION:Barthomley Village Hall\, CW2 5PE
CATEGORIES:Regular meetings
END:VEVENT
BEGIN:VEVENT
DTSTART;TZID=Europe/London:20250113T180000
DTEND;TZID=Europe/London:20250113T190000
DTSTAMP:20260420T124924
CREATED:20241116T140745Z
LAST-MODIFIED:20241116T140753Z
UID:1645-1736791200-1736794800@barthomleyvillagehall.com
SUMMARY:Yoga
DESCRIPTION:6.00pm – 7.00pm
URL:https://barthomleyvillagehall.com/event/yoga-130125/
LOCATION:Barthomley Village Hall\, CW2 5PE
CATEGORIES:Regular meetings
END:VEVENT
BEGIN:VEVENT
DTSTART;TZID=Europe/London:20250114T193000
DTEND;TZID=Europe/London:20250114T213000
DTSTAMP:20260420T124924
CREATED:20241116T141721Z
LAST-MODIFIED:20241116T141721Z
UID:1666-1736883000-1736890200@barthomleyvillagehall.com
SUMMARY:Parish Council meeting
DESCRIPTION:Tuesday 14th January 7:30pm \nMembers of the public are welcome to attend. \nAn agenda will be published on the Parish Council website in advance of the meeting.
URL:https://barthomleyvillagehall.com/event/parish-council-meeting-140125/
CATEGORIES:One-off
END:VEVENT
BEGIN:VEVENT
DTSTART;TZID=Europe/London:20250115T200000
DTEND;TZID=Europe/London:20250115T213000
DTSTAMP:20260420T124924
CREATED:20241116T141831Z
LAST-MODIFIED:20241116T141831Z
UID:1668-1736971200-1736976600@barthomleyvillagehall.com
SUMMARY:Village Hall Committee Meeting
DESCRIPTION:15th January\, 8pm
URL:https://barthomleyvillagehall.com/event/village-hall-committee-meeting-150125/
CATEGORIES:One-off
END:VEVENT
BEGIN:VEVENT
DTSTART;TZID=Europe/London:20250120T180000
DTEND;TZID=Europe/London:20250120T190000
DTSTAMP:20260420T124924
CREATED:20241116T140821Z
LAST-MODIFIED:20241116T140821Z
UID:1648-1737396000-1737399600@barthomleyvillagehall.com
SUMMARY:Yoga
DESCRIPTION:6.00pm – 7.00pm
URL:https://barthomleyvillagehall.com/event/yoga-200125/
LOCATION:Barthomley Village Hall\, CW2 5PE
CATEGORIES:Regular meetings
END:VEVENT
BEGIN:VEVENT
DTSTART;TZID=Europe/London:20250121T140000
DTEND;TZID=Europe/London:20250121T160000
DTSTAMP:20260420T124924
CREATED:20241116T141940Z
LAST-MODIFIED:20241116T141940Z
UID:1670-1737468000-1737475200@barthomleyvillagehall.com
SUMMARY:Teaset
DESCRIPTION:21st January\, 2-4pm \nPaula White from Radio Stoke \n 
URL:https://barthomleyvillagehall.com/event/teaset-210125/
CATEGORIES:One-off
END:VEVENT
BEGIN:VEVENT
DTSTART;TZID=UTC:20250122T193000
DTEND;TZID=UTC:20250122T213000
DTSTAMP:20260420T124924
CREATED:20241116T141622Z
LAST-MODIFIED:20241116T141622Z
UID:1664-1737574200-1737581400@barthomleyvillagehall.com
SUMMARY:PCC meeting
DESCRIPTION:Wednesday 22nd January 7.30 pm
URL:https://barthomleyvillagehall.com/event/pcc-meeting-220125/
LOCATION:Barthomley Village Hall\, CW2 5PE
CATEGORIES:One-off
END:VEVENT
BEGIN:VEVENT
DTSTART;TZID=Europe/London:20250127T180000
DTEND;TZID=Europe/London:20250127T190000
DTSTAMP:20260420T124924
CREATED:20241116T140845Z
LAST-MODIFIED:20241116T140845Z
UID:1650-1738000800-1738004400@barthomleyvillagehall.com
SUMMARY:Yoga
DESCRIPTION:6.00pm – 7.00pm
URL:https://barthomleyvillagehall.com/event/yoga-270125/
LOCATION:Barthomley Village Hall\, CW2 5PE
CATEGORIES:Regular meetings
END:VEVENT
END:VCALENDAR