BEGIN:VCALENDAR
VERSION:2.0
PRODID:-//Barthomley Village Hall - ECPv6.15.11//NONSGML v1.0//EN
CALSCALE:GREGORIAN
METHOD:PUBLISH
X-WR-CALNAME:Barthomley Village Hall
X-ORIGINAL-URL:https://barthomleyvillagehall.com
X-WR-CALDESC:Events for Barthomley Village Hall
REFRESH-INTERVAL;VALUE=DURATION:PT1H
X-Robots-Tag:noindex
X-PUBLISHED-TTL:PT1H
BEGIN:VTIMEZONE
TZID:Europe/London
BEGIN:DAYLIGHT
TZOFFSETFROM:+0000
TZOFFSETTO:+0100
TZNAME:BST
DTSTART:20240331T010000
END:DAYLIGHT
BEGIN:STANDARD
TZOFFSETFROM:+0100
TZOFFSETTO:+0000
TZNAME:GMT
DTSTART:20241027T010000
END:STANDARD
BEGIN:DAYLIGHT
TZOFFSETFROM:+0000
TZOFFSETTO:+0100
TZNAME:BST
DTSTART:20250330T010000
END:DAYLIGHT
BEGIN:STANDARD
TZOFFSETFROM:+0100
TZOFFSETTO:+0000
TZNAME:GMT
DTSTART:20251026T010000
END:STANDARD
BEGIN:DAYLIGHT
TZOFFSETFROM:+0000
TZOFFSETTO:+0100
TZNAME:BST
DTSTART:20260329T010000
END:DAYLIGHT
BEGIN:STANDARD
TZOFFSETFROM:+0100
TZOFFSETTO:+0000
TZNAME:GMT
DTSTART:20261025T010000
END:STANDARD
END:VTIMEZONE
BEGIN:VTIMEZONE
TZID:UTC
BEGIN:STANDARD
TZOFFSETFROM:+0000
TZOFFSETTO:+0000
TZNAME:UTC
DTSTART:20240101T000000
END:STANDARD
END:VTIMEZONE
BEGIN:VEVENT
DTSTART;TZID=Europe/London:20250203T180000
DTEND;TZID=Europe/London:20250203T190000
DTSTAMP:20260420T142504
CREATED:20250117T115322Z
LAST-MODIFIED:20250117T115322Z
UID:1675-1738605600-1738609200@barthomleyvillagehall.com
SUMMARY:Yoga
DESCRIPTION:6.00pm – 7.00pm
URL:https://barthomleyvillagehall.com/event/yoga-030225/
LOCATION:Barthomley Village Hall\, CW2 5PE
CATEGORIES:Regular meetings
END:VEVENT
BEGIN:VEVENT
DTSTART;TZID=UTC:20250204T190000
DTEND;TZID=UTC:20250204T210000
DTSTAMP:20260420T142504
CREATED:20250117T115743Z
LAST-MODIFIED:20250117T115743Z
UID:1683-1738695600-1738702800@barthomleyvillagehall.com
SUMMARY:WI
DESCRIPTION:4th February 7pm
URL:https://barthomleyvillagehall.com/event/wi-040225/
LOCATION:Barthomley Village Hall\, CW2 5PE
CATEGORIES:Regular meetings
END:VEVENT
BEGIN:VEVENT
DTSTART;TZID=Europe/London:20250210T180000
DTEND;TZID=Europe/London:20250210T190000
DTSTAMP:20260420T142504
CREATED:20250117T115435Z
LAST-MODIFIED:20250117T115435Z
UID:1677-1739210400-1739214000@barthomleyvillagehall.com
SUMMARY:Yoga
DESCRIPTION:6.00pm – 7.00pm
URL:https://barthomleyvillagehall.com/event/yoga-100225/
LOCATION:Barthomley Village Hall\, CW2 5PE
CATEGORIES:Regular meetings
END:VEVENT
BEGIN:VEVENT
DTSTART;TZID=Europe/London:20250215T080000
DTEND;TZID=Europe/London:20250215T170000
DTSTAMP:20260420T142504
CREATED:20250117T120202Z
LAST-MODIFIED:20250117T120202Z
UID:1688-1739606400-1739638800@barthomleyvillagehall.com
SUMMARY:Funeral
DESCRIPTION:
URL:https://barthomleyvillagehall.com/event/funeral-150225/
LOCATION:Barthomley Village Hall\, CW2 5PE
CATEGORIES:Private booking
END:VEVENT
BEGIN:VEVENT
DTSTART;TZID=Europe/London:20250217T180000
DTEND;TZID=Europe/London:20250217T190000
DTSTAMP:20260420T142504
CREATED:20250117T115529Z
LAST-MODIFIED:20250117T115529Z
UID:1679-1739815200-1739818800@barthomleyvillagehall.com
SUMMARY:No Yoga - Half Term
DESCRIPTION:6.00pm – 7.00pm
URL:https://barthomleyvillagehall.com/event/no-yoga-half-term-2/
LOCATION:Barthomley Village Hall\, CW2 5PE
CATEGORIES:Regular meetings
END:VEVENT
BEGIN:VEVENT
DTSTART;TZID=Europe/London:20250218T140000
DTEND;TZID=Europe/London:20250218T160000
DTSTAMP:20260420T142504
CREATED:20250117T120009Z
LAST-MODIFIED:20250117T120033Z
UID:1685-1739887200-1739894400@barthomleyvillagehall.com
SUMMARY:Teaset
DESCRIPTION:18th February\, 2-4pm \nA couple whose garden is opened for the National Garden Scheme \n 
URL:https://barthomleyvillagehall.com/event/teaset-180225/
LOCATION:Barthomley Village Hall\, CW2 5PE
CATEGORIES:One-off
END:VEVENT
BEGIN:VEVENT
DTSTART;TZID=Europe/London:20250224T180000
DTEND;TZID=Europe/London:20250224T190000
DTSTAMP:20260420T142504
CREATED:20250117T115609Z
LAST-MODIFIED:20250117T115609Z
UID:1681-1740420000-1740423600@barthomleyvillagehall.com
SUMMARY:Yoga
DESCRIPTION:6.00pm – 7.00pm
URL:https://barthomleyvillagehall.com/event/yoga-240225/
LOCATION:Barthomley Village Hall\, CW2 5PE
CATEGORIES:Regular meetings
END:VEVENT
END:VCALENDAR